BEGIN:VCALENDAR
VERSION:2.0
PRODID:spatie/icalendar-generator
DESCRIPTION:Events from City of Berryville\, Arkansas
X-WR-CALDESC:Events from City of Berryville\, Arkansas
REFRESH-INTERVAL;VALUE=DURATION:PT1440M
X-PUBLISHED-TTL:PT1440M
BEGIN:VTIMEZONE
TZID:Etc/GMT+0
BEGIN:STANDARD
DTSTART:20240705T110000Z
TZOFFSETFROM:+0000
TZOFFSETTO:+0000
END:STANDARD
END:VTIMEZONE
BEGIN:VTIMEZONE
TZID:UTC
BEGIN:STANDARD
DTSTART:20250724T140840Z
TZOFFSETFROM:+0000
TZOFFSETTO:+0000
END:STANDARD
END:VTIMEZONE
BEGIN:VEVENT
UID:592-18
DTSTAMP:20260420T140840Z
SUMMARY:Berryville Public Library Groundbreaking
LOCATION:Berryville Public Library 207 South Springfield Street  Berryville
  AR 72616
ORGANIZER;CN=Julia Borkowski:MAILTO:jborkowski@carrollconews.com
DTSTART;TZID=Etc/GMT+0:20250401T110000
DTEND;TZID=Etc/GMT+0:20250401T120100
X-ALT-DESC;FMTTYPE=TEXT/HTML:A formal groundbreaking ceremony will take pla
 ce on Tuesday\, April 1\, at 11 AM. The new library is being built at 207 
 South Springfield Street in Berryville\, across from City Pool Park. Nabho
 lz is managing the construction of the library. Library Director Julie Hal
 l stated\, “April 1 will be a historic day here in Berryville.&amp;hellip\;
CATEGORIES:General,  Groundbreaking,  City Council Meeting
URL;VALUE=URI:https://berryvillear.gov/mc-events/berryville-public-library-
 groundbreaking/
METHOD:PUBLISH
END:VEVENT
END:VCALENDAR