BEGIN:VCALENDAR
VERSION:2.0
PRODID:spatie/icalendar-generator
DESCRIPTION:Events from City of Berryville\, Arkansas
X-WR-CALDESC:Events from City of Berryville\, Arkansas
REFRESH-INTERVAL;VALUE=DURATION:PT1440M
X-PUBLISHED-TTL:PT1440M
BEGIN:VTIMEZONE
TZID:Etc/GMT+0
BEGIN:STANDARD
DTSTART:20241119T000000Z
TZOFFSETFROM:+0000
TZOFFSETTO:+0000
END:STANDARD
END:VTIMEZONE
BEGIN:VTIMEZONE
TZID:UTC
BEGIN:STANDARD
DTSTART:20250726T112724Z
TZOFFSETFROM:+0000
TZOFFSETTO:+0000
END:STANDARD
END:VTIMEZONE
BEGIN:VEVENT
UID:597-23
DTSTAMP:20260422T112724Z
SUMMARY:Carroll County Fair
LOCATION:Carroll County Fair  105 Co Rd 401  Berryville AR 72616
ORGANIZER;CN=Julia Borkowski:MAILTO:jborkowski@carrollconews.com
DTSTART;TZID=Etc/GMT+0;VALUE=DATE:20250816
DTEND;TZID=Etc/GMT+0;VALUE=DATE:20250824
X-ALT-DESC;FMTTYPE=TEXT/HTML:Annual Carroll County Fair
CATEGORIES:General,  City Council Meeting
URL;VALUE=URI:https://berryvillear.gov/mc-events/carroll-county-fair/
METHOD:PUBLISH
END:VEVENT
END:VCALENDAR